BEGIN:VCALENDAR
VERSION:2.0
PRODID:-//PAPA - ECPv6.15.20//NONSGML v1.0//EN
CALSCALE:GREGORIAN
METHOD:PUBLISH
X-WR-CALNAME:PAPA
X-ORIGINAL-URL:https://preservationthroughart.org
X-WR-CALDESC:Events for PAPA
REFRESH-INTERVAL;VALUE=DURATION:PT1H
X-Robots-Tag:noindex
X-PUBLISHED-TTL:PT1H
BEGIN:VTIMEZONE
TZID:America/New_York
BEGIN:DAYLIGHT
TZOFFSETFROM:-0500
TZOFFSETTO:-0400
TZNAME:EDT
DTSTART:20200308T070000
END:DAYLIGHT
BEGIN:STANDARD
TZOFFSETFROM:-0400
TZOFFSETTO:-0500
TZNAME:EST
DTSTART:20201101T060000
END:STANDARD
BEGIN:DAYLIGHT
TZOFFSETFROM:-0500
TZOFFSETTO:-0400
TZNAME:EDT
DTSTART:20210314T070000
END:DAYLIGHT
BEGIN:STANDARD
TZOFFSETFROM:-0400
TZOFFSETTO:-0500
TZNAME:EST
DTSTART:20211107T060000
END:STANDARD
BEGIN:DAYLIGHT
TZOFFSETFROM:-0500
TZOFFSETTO:-0400
TZNAME:EDT
DTSTART:20220313T070000
END:DAYLIGHT
BEGIN:STANDARD
TZOFFSETFROM:-0400
TZOFFSETTO:-0500
TZNAME:EST
DTSTART:20221106T060000
END:STANDARD
BEGIN:DAYLIGHT
TZOFFSETFROM:-0500
TZOFFSETTO:-0400
TZNAME:EDT
DTSTART:20230312T070000
END:DAYLIGHT
BEGIN:STANDARD
TZOFFSETFROM:-0400
TZOFFSETTO:-0500
TZNAME:EST
DTSTART:20231105T060000
END:STANDARD
BEGIN:DAYLIGHT
TZOFFSETFROM:-0500
TZOFFSETTO:-0400
TZNAME:EDT
DTSTART:20240310T070000
END:DAYLIGHT
BEGIN:STANDARD
TZOFFSETFROM:-0400
TZOFFSETTO:-0500
TZNAME:EST
DTSTART:20241103T060000
END:STANDARD
END:VTIMEZONE
BEGIN:VEVENT
DTSTART;TZID=America/New_York:20231009T180000
DTEND;TZID=America/New_York:20231009T200000
DTSTAMP:20260423T152222
CREATED:20231009T160514Z
LAST-MODIFIED:20231009T160514Z
UID:4775-1696874400-1696881600@preservationthroughart.org
SUMMARY:MAP (Music\, Art\, and Policy) WNC Sierra Club
DESCRIPTION:Come join us for a positive look on what is being done for our planet. A fun and informative evening!\nWNC Sierra Club Event Series Continues with More Local Leaders in Music\, Art\, & Policy\nThe decisions we make today determine the community we have tomorrow.\nDate: Monday\, Oct. 9\nTime: 6-8 p.m.\nLocation: Wedge Brewing Company. 5 Foundy St. Asheville\, NC\, 28801. In the River Arts District.\n\n\n\n\nJoin the WNC Sierra Club for the second installment of our MAP (Music\, Art\, and Policy) Series\, featuring an evening of music\, art\, and policy focused on turning inspiration into action. Each month we are featuring young local leaders\, artists and musicians who will share how their work is shaped by their passion for our planet.\nOur featured guests for October are:\nMaggie Ullman\, Asheville City Council Member\, Asheville’s first Sustainability Director\, and president of Ullman Consulting\, a non-profit and philanthropy consultancy focused on equitable solutions to climate change.\nScott “Doc” Varn\, local artist and executive director of Preserving a Picturesque America\, which aims to preserve historic and natural spaces through the power of art.\nZaq Suarez\, local musician and songwriter and founder of Open Folk AVL\, a free weekly musical showcase.
URL:https://preservationthroughart.org/event/map-music-art-and-policy-wnc-sierra-club/
END:VEVENT
BEGIN:VEVENT
DTSTART;TZID=America/New_York:20230827T140000
DTEND;TZID=America/New_York:20230827T180000
DTSTAMP:20260423T152222
CREATED:20230825T010437Z
LAST-MODIFIED:20230825T010659Z
UID:4658-1693144800-1693159200@preservationthroughart.org
SUMMARY:Featured Artist Reception - Mike Wurman
DESCRIPTION:Enjoy an afternoon reception of amazing art and lively conversation\, along with wine and light fare!\nA special collection of works by Mike Wurman is on display and for sale at the gallery during the month of August and September.\n \nProceeds will go to conservation efforts in Pisgah National Forest\, the ATC and other organizations.\nMike’s adventures from hiking the Appalachian Trail\, the Colorado Trail\, and countless trails throughout our mountains have inspired him to share the beauty of our American landscape through the power of art!\n \nPlease come out to meet the artist\, hear his tales of adventure and see how he powerfully captures the beauty of our mountains in his work!\nRemember – A portion of the art sale proceeds will benefit non-profits that work to protect and preserve our mountains for all to enjoy.
URL:https://preservationthroughart.org/event/featured-artist-reception-mike-wurman/
LOCATION:Saluda Studios\, 144 US Hwy 176W\, Saluda\, NC\, 28773\, United States
END:VEVENT
BEGIN:VEVENT
DTSTART;TZID=America/New_York:20220616T133000
DTEND;TZID=America/New_York:20220616T163000
DTSTAMP:20260423T152223
CREATED:20220425T054522Z
LAST-MODIFIED:20220620T202217Z
UID:3316-1655386200-1655397000@preservationthroughart.org
SUMMARY:Spring 2022 Art Auction and Benefit
DESCRIPTION:Please join us for our Spring Art Auction and Benefit hosted by\nBrunk Auctions\, June 16th\, 2022\nExquisite works of art by celebrated local artists will be on the auction block to support local organizations and their conservation efforts along the French Broad River. \nArtwork is in a variety of mediums\, depicting scenes along the French Broad River from the original 1870s publication\, “Picturesque America”. This auction is PAPA’s major fundraiser. Proceeds will not only support PAPA with its ongoing mission but will also contribute to the conservation efforts of such organizations as Riverlink\, Asheville Greenworks\, Mountain True\, The Appalachian Trail Conservancy\, the Pisgah Conservancy\, Chimney Rock State Park\, and the Carolina Mountain Club. \nThis is a unique opportunity to purchase some wonderful art and contribute to the protection of natural landmarks in the beautiful mountains we call home! \nEvent Schedule5:30 – 6:55 pm Art Preview and Artist Reception with wine\, hors d’oeuvres\, and musical entertainment7:00 pm Live auction \nPricing:$75 per person $125 per couple \nTicket purchase includes beverages\, hors d’oeuvres\, and bidding card. \nPreview featured artwork here.
URL:https://preservationthroughart.org/event/spring-2022-art-auction-and-benefit/
LOCATION:Brunk Auctions\, 117 Tunnel Road\, Asheville\, NC\, 28805
ATTACH;FMTTYPE=image/png:https://preservationthroughart.org/wp-content/uploads/2022/04/Sample_03.png
END:VEVENT
BEGIN:VEVENT
DTSTART;TZID=America/New_York:20211204T120000
DTEND;TZID=America/New_York:20211204T160000
DTSTAMP:20260423T152223
CREATED:20211116T021456Z
LAST-MODIFIED:20220425T054813Z
UID:2850-1638619200-1638633600@preservationthroughart.org
SUMMARY:Exhibition Opening - "Preservation Through Art: Along the French Broad"
DESCRIPTION:**There will be a drop-in Artist Reception on Saturday\, December 4th from 5:00 until 9:00 pm.**\n \nPAPA will be in Hot Springs for another opportunity to see the “Preservation Through Art: Along the French Broad” art sale and exhibit\, which will feature artwork from the Hot Springs area. If you missed the six-week show in the River Arts District\, here is your chance to see more beautiful pieces available for purchase – and remember that proceeds from this art sale will go towards various protection and restoration efforts along the French Broad River.\n \nThe exhibit runs from December 3 to December 31 at:\n \nBig Pillow Brewing25 Andrews Ave NorthHot Springs\, NC\n \nArtwork can also be viewed during Big Pillow’s normal business hours:Sunday 12-9Monday ClosedTues-Thurs 12-9Fri-Sat 12-10\n \nAll artwork can be seen on PAPA’s website: https://preservationthroughart.org/current-show/ and is available for purchase there.\n \nPlease come out and support PAPA and our local artists who want to preserve special places along the French Broad River through the power of the arts! Also\, be sure to support the kind folks at Big Pillow Brewing for their generosity in sharing their space for this event!\n 
URL:https://preservationthroughart.org/event/preservation-through-art-along-the-french-broad-art-sale-and-fundraiser/
LOCATION:Big Pillow Brewing\, 25 Andrews Ave North\, Hot Springs\, NC\, 28743\, United States
ATTACH;FMTTYPE=image/jpeg:https://preservationthroughart.org/wp-content/uploads/2021/11/Show-opening-graphic.jpg
END:VEVENT
BEGIN:VEVENT
DTSTART;VALUE=DATE:20211202
DTEND;VALUE=DATE:20220101
DTSTAMP:20260423T152223
CREATED:20211121T040621Z
LAST-MODIFIED:20211121T040625Z
UID:2898-1638471600-1640977199@preservationthroughart.org
SUMMARY:“Preservation Through Art: Along the French Broad” Art Sale and Fundraiser
DESCRIPTION:PAPA will be in Hot Springs for another opportunity to see the “Preservation Through Art: Along the French Broad” art sale and exhibit\, which will feature artwork from the Hot Springs area. If you missed the six-week show in the River Arts District\, here is your chance to see more beautiful pieces available for purchase – and remember that proceeds from this art sale will go towards various protection and restoration efforts along the French Broad River.\n \nThe exhibit runs from December 3 to December 31 at:\n \nBig Pillow Brewing25 Andrews Ave NorthHot Springs\, NC\n \n**There will be a drop-in Artist Reception on Saturday\, December 4th from 5:00 until 9:00 pm.**\n \nArtwork can also be viewed during Big Pillow’s normal business hours:Sunday 12-9Monday ClosedTues-Thurs 12-9Fri-Sat 12-10\n \nAll artwork can be seen on PAPA’s website: https://preservationthroughart.org/current-show/ and is available for purchase there.\n \nPlease come out and support PAPA and our local artists who want to preserve special places along the French Broad River through the power of the arts! Also\, be sure to support the kind folks at Big Pillow Brewing for their generosity in sharing their space for this event!\n 
URL:https://preservationthroughart.org/event/preservation-through-art-along-the-french-broad-art-sale-and-fundraiser-2/
LOCATION:Big Pillow Brewing\, 25 Andrews Ave North\, Hot Springs\, NC\, 28743\, United States
ATTACH;FMTTYPE=image/png:https://preservationthroughart.org/wp-content/uploads/2021/11/Hot-Springs-show-logo.png
END:VEVENT
BEGIN:VEVENT
DTSTART;TZID=America/New_York:20211020T140000
DTEND;TZID=America/New_York:20211020T160000
DTSTAMP:20260423T152223
CREATED:20210805T002318Z
LAST-MODIFIED:20210818T001625Z
UID:1695-1634738400-1634745600@preservationthroughart.org
SUMMARY:Artists Q&A - Preservation Through Art: Along the French Broad
DESCRIPTION:Join us for an artists Q&A as part of our “Preservation Through Art” exhibition! Artists will share tales of what it took to find & recreate vantage points from over 150 years ago. The goal of these adventure artists is to raise funds to preserve the natural landscape along the French Broad through the sale of their artwork at this event.\nThe exhibition and sale takes place in the Cloud Room at the Wedge at Foundation – 5 Foundy Street\, Asheville\, NC. (River Arts District) 6 to 8 pm.\nhttps://preservationthroughart.org/fb-exhibition/\nCovid protocols will be observed at this event.\nCover photo by Sheila Mraz
URL:https://preservationthroughart.org/event/artists-qa-preservation-through-art-along-the-french-broad/
LOCATION:Wedge at Foundation\, 5 Foundy Street\, Asheville\, NC\, 28801
ATTACH;FMTTYPE=image/jpeg:https://preservationthroughart.org/wp-content/uploads/2021/08/QandA3-1.jpg
END:VEVENT
BEGIN:VEVENT
DTSTART;TZID=America/New_York:20211013T140000
DTEND;TZID=America/New_York:20211013T160000
DTSTAMP:20260423T152223
CREATED:20210805T003054Z
LAST-MODIFIED:20210819T002702Z
UID:1705-1634133600-1634140800@preservationthroughart.org
SUMMARY:Preservation Through Art: Along the French Broad (3rd collection)
DESCRIPTION:Join our Member Artists for opening night of the 3rd collection in our “Preservation Through Art” Exhibition! The goal of this important art sale & fundraiser is to protect natural landmarks & improve the health of the French Broad river. We will feature artwork depicting Mountain Island\, The French Broad\, Old Mill at Reems Creek\, Team on the French Broad. The opening is from 6 to 8 pm. \nNote that there is new artwork being featured every two weeks! \nOur exhibition takes place in the Cloud Room at the Wedge at Foundation – 5 Foundy Street\, Asheville\, NC. (River Arts District) \nIf you miss one of the exhibition openings\, contact us to schedule a visit. Also\, if you would like a private tour of the exhibition\, let us know! You can reach us at 844-727-2278 Ext 702 or lynn@preservationthroughart.org. \nFrench Broad Exhibition \n\nCovid protocols will be observed at this event.
URL:https://preservationthroughart.org/event/1705/
LOCATION:Wedge at Foundation\, 5 Foundy Street\, Asheville\, NC\, 28801
ATTACH;FMTTYPE=image/jpeg:https://preservationthroughart.org/wp-content/uploads/2021/08/FB-PAPA-Show-logo-3-.jpeg
END:VEVENT
BEGIN:VEVENT
DTSTART;TZID=America/New_York:20211006T140000
DTEND;TZID=America/New_York:20211006T160000
DTSTAMP:20260423T152223
CREATED:20210805T002519Z
LAST-MODIFIED:20210818T001849Z
UID:1701-1633528800-1633536000@preservationthroughart.org
SUMMARY:Artists Q&A - Preservation Through Art: Along the French Broad
DESCRIPTION:Join us for an artists Q&A as part of our “Preservation Through Art” exhibition! Artists will share tales of what it took to find & recreate vantage points from over 150 years ago. The goal of these adventure artists is to raise funds to preserve the natural landscape along the French Broad through the sale of their artwork at this event.\nThe exhibition and sale takes place in the Cloud Room at the Wedge at Foundation – 5 Foundy Street\, Asheville\, NC. (River Arts District) 6 to 8 pm.\nhttps://preservationthroughart.org/fb-exhibition/\nCovid protocols will be observed at this event.\nCover photo by Sheila Mraz
URL:https://preservationthroughart.org/event/artists-qa-preservation-through-art-along-the-french-broad-2/
LOCATION:Wedge at Foundation\, 5 Foundy Street\, Asheville\, NC\, 28801
ATTACH;FMTTYPE=image/jpeg:https://preservationthroughart.org/wp-content/uploads/2021/08/QandA2.jpg
END:VEVENT
BEGIN:VEVENT
DTSTART;TZID=America/New_York:20210929T140000
DTEND;TZID=America/New_York:20210929T160000
DTSTAMP:20260423T152223
CREATED:20210805T003250Z
LAST-MODIFIED:20210819T002559Z
UID:1710-1632924000-1632931200@preservationthroughart.org
SUMMARY:Preservation Through Art: Along the French Broad (2nd collection)
DESCRIPTION:Join our Member Artists for opening night of the 2nd collection in our “Preservation Through Art” Exhibition! The goal of this important art sale & fundraiser is to protect natural landmarks & improve the health of the French Broad river. We will feature artwork depicting the Smoky Mountains\, Farm on the French Broad\, Paint Rock\, Long View of Lovers Leap\, Ferry Site on the French Broad\, Portrait of Harry Fenn. The opening is from 6 to 8 pm. \nNote that there is new artwork being featured every two weeks! \nOur exhibition takes place in the Cloud Room at the Wedge at Foundation – 5 Foundy Street\, Asheville\, NC. (River Arts District) \nIf you miss one of the exhibition openings\, contact us to schedule a visit. Also\, if you would like a private tour of the exhibition\, let us know! You can reach us at 844-727-2278 Ext 702 or lynn@preservationthroughart.org. \nFrench Broad Exhibition \n\nCovid protocols will be observed at this event.
URL:https://preservationthroughart.org/event/preservation-through-art-along-the-french-broad/
LOCATION:Wedge at Foundation\, 5 Foundy Street\, Asheville\, NC\, 28801
ATTACH;FMTTYPE=image/jpeg:https://preservationthroughart.org/wp-content/uploads/2021/08/FB-PAPA-Show-logo-2-.jpeg
END:VEVENT
BEGIN:VEVENT
DTSTART;TZID=America/New_York:20210922T140000
DTEND;TZID=America/New_York:20210922T160000
DTSTAMP:20260423T152223
CREATED:20210805T002608Z
LAST-MODIFIED:20210818T002007Z
UID:1703-1632319200-1632326400@preservationthroughart.org
SUMMARY:Artists Q&A - Preservation Through Art: Along the French Broad
DESCRIPTION:Join us for an artists Q&A as part of our “Preservation Through Art” exhibition! Artists will share tales of what it took to find & recreate vantage points from over 150 years ago. The goal of these adventure artists is to raise funds to preserve the natural landscape along the French Broad through the sale of their artwork at this event.\nThe exhibition and sale takes place in the Cloud Room at the Wedge at Foundation – 5 Foundy Street\, Asheville\, NC. (River Arts District) 6 to 8 pm.\nhttps://preservationthroughart.org/fb-exhibition/\nCovid protocols will be observed at this event.\nCover photo by Sheila Mraz
URL:https://preservationthroughart.org/event/artists-qa-preservation-through-art-along-the-french-broad-3/
LOCATION:Wedge at Foundation\, 5 Foundy Street\, Asheville\, NC\, 28801
ATTACH;FMTTYPE=image/jpeg:https://preservationthroughart.org/wp-content/uploads/2021/08/QandA1.jpg
END:VEVENT
BEGIN:VEVENT
DTSTART;TZID=America/New_York:20210916T140000
DTEND;TZID=America/New_York:20210916T160000
DTSTAMP:20260423T152223
CREATED:20210805T003346Z
LAST-MODIFIED:20210819T002459Z
UID:1712-1631800800-1631808000@preservationthroughart.org
SUMMARY:Preservation Through Art: Along the French Broad (1st collection)
DESCRIPTION:Join our Member Artists for opening night of the first collection in our “Preservation Through Art” Exhibition! The goal of this important art sale & fundraiser is to protect natural landmarks & improve the health of the French Broad river. We will feature artwork depicting Chimney Rock\, Lovers Leap in Hot Springs\, Scenes on the French Broad\, and the Pisgah View from Biltmore. The opening is from 6 to 8 pm.\nNote that there is new artwork being featured every two weeks!\nOur exhibition takes place in the Cloud Room at the Wedge at Foundation – 5 Foundy Street\, Asheville\, NC. (River Arts District)\nIf you miss one of the exhibition openings\, contact us to schedule a visit. Also\, if you would like a private tour of the exhibition\, let us know! You can reach us at 844-727-2278 Ext 702 or lynn@preservationthroughart.org.\nhttps://preservationthroughart.org/fb-exhibition/\nCovid protocols will be observed at this event.
URL:https://preservationthroughart.org/event/preservation-through-art-along-the-french-broad-2/
LOCATION:Wedge at Foundation\, 5 Foundy Street\, Asheville\, NC\, 28801
ATTACH;FMTTYPE=image/jpeg:https://preservationthroughart.org/wp-content/uploads/2021/08/FB-PAPA-Show-logo-1-.jpeg
END:VEVENT
BEGIN:VEVENT
DTSTART;VALUE=DATE:20210915
DTEND;VALUE=DATE:20211028
DTSTAMP:20260423T152223
CREATED:20210820T000052Z
LAST-MODIFIED:20210901T015822Z
UID:2283-1631736000-1635364799@preservationthroughart.org
SUMMARY:"Footsteps & Brushstrokes" installation
DESCRIPTION:During the Preservation Through Art exhibition\, the installation entitled “Footsteps & Brushstrokes” will be upstairs in the Wedge at Foundation and will display artwork and photos from the adventure on the Buncombe Turnpike that made this exhibition possible. Artist Mike “Sketch” Wurman and PAPA founder Scott “Doc” Varn embarked on this 80-mile\, 2-week trek following in the footsteps and brushstrokes of the original Picturesque America artist Harry Fenn. The original route mostly followed the Drovers road and the famed Buncombe Turnpike of the 1800s. By retracing the steps of the original artist\, we were able to find locations featured in the original Picturesque America serials. \nPhotos of the adventure and the original sketches at each of the 12 vantage points will be on display. They were created in the fashion of the original artist in both charcoal and walnut ink washes. Art shown below was created by Scott Varn and Mike Wurman. \nThis installation can be viewed anytime that the Wedge at Foundation is open. Visit their website to view hours. \nPhotos and more information can be found on our Facebook page: https://www.facebook.com/PreservingAPicturesqueAmerica \n             \n         \n       \n \n  \n 
URL:https://preservationthroughart.org/event/footsteps-brushstrokes-installation/
LOCATION:Wedge at Foundation\, 5 Foundy Street\, Asheville\, NC\, 28801
END:VEVENT
BEGIN:VEVENT
DTSTART;VALUE=DATE:20210531
DTEND;VALUE=DATE:20210602
DTSTAMP:20260423T152223
CREATED:20210331T072518Z
LAST-MODIFIED:20210331T072518Z
UID:65-1622491200-1622577599@preservationthroughart.org
SUMMARY:French Broad Exhibition - Submissions eligible for exhibition only.
DESCRIPTION:Artwork submitted to be eligible for the French Broad exhibition only.
URL:https://preservationthroughart.org/event/french-broad-exhibition-submissions-eligible-for-exhibition-only/
END:VEVENT
BEGIN:VEVENT
DTSTART;VALUE=DATE:20210330
DTEND;VALUE=DATE:20210401
DTSTAMP:20260423T152223
CREATED:20210331T072351Z
LAST-MODIFIED:20210331T072351Z
UID:63-1617134400-1617220799@preservationthroughart.org
SUMMARY:French Broad Exhibition - Submissions eligible to be published.
DESCRIPTION:Artwork submitted to be eligible for the French Broad exhibition and the opportunity to be published in “Picturesque America\, On the French Broad” Space is limited so acceptance is made on a first come\, first serve basis.
URL:https://preservationthroughart.org/event/french-broad-exhibition-submissions-eligible-to-be-published/
END:VEVENT
BEGIN:VEVENT
DTSTART;VALUE=DATE:20210228
DTEND;VALUE=DATE:20210302
DTSTAMP:20260423T152223
CREATED:20210331T070509Z
LAST-MODIFIED:20210331T071417Z
UID:60-1614538800-1614625199@preservationthroughart.org
SUMMARY:French Broad Exhibition Application Deadline
DESCRIPTION:Application submission deadline for French Broad exhibition.
URL:https://preservationthroughart.org/event/french-broad-exhibition-application-deadline/
END:VEVENT
BEGIN:VEVENT
DTSTART;VALUE=DATE:20210131
DTEND;VALUE=DATE:20210331
DTSTAMP:20260423T152223
CREATED:20210331T065238Z
LAST-MODIFIED:20210331T065925Z
UID:54-1612119600-1617134399@preservationthroughart.org
SUMMARY:WNC French Broad
DESCRIPTION:Guided and unguided opportunities to get to WNC French Broad vantage points
URL:https://preservationthroughart.org/event/wnc-french-broad/
LOCATION:WNC French Broad\, NC\, United States
END:VEVENT
END:VCALENDAR